{"text_format":"1","workbook":"xlsx","n_sheets":3,"sheets":["記入例","請求書","2ページ目以降"],"not_rendered":{"charts":0,"images":0,"macros":1,"external_links":0,"defined_names":3,"comments":0,"pivot_tables":0},"unopened":[],"bounds":{"document_bytes":16777216,"sheet_cells":100000,"rows_first":2000,"rows_last":500,"rows_between":2000,"halvings":0,"cell_chars":16384,"cell_head_chars":4096},"cells_cut":0,"cells_raw":0,"read":"whole","date_system":"1900"}

{"sheet":"記入例","index":0,"n_rows":138,"n_cols":57,"rows_kept":138,"cut":false,"hidden":false,"merged":[[137,2,137,7],[137,8,137,10],[137,11,137,22],[137,23,137,34],[134,2,134,7],[134,8,134,10],[134,11,134,22],[134,23,134,34],[135,2,135,7],[135,8,135,10],[135,11,135,22],[135,23,135,34],[136,2,136,7],[136,8,136,10],[136,11,136,22],[136,23,136,34],[127,2,130,3],[127,5,127,6],[127,11,129,18],[127,19,129,26],[127,27,129,34],[129,5,129,6],[129,7,129,9],[133,2,133,7],[133,8,133,10],[133,11,133,22],[133,23,133,34],[121,4,121,7],[121,8,121,10],[121,11,121,21],[121,22,121,34],[122,4,122,7],[122,8,122,10],[122,11,122,21],[122,22,122,34],[123,4,123,7],[123,8,123,10],[123,11,123,21],[123,22,123,34],[117,0,117,21],[117,22,117,34],[119,1,119,3],[119,4,119,7],[119,8,119,10],[119,11,119,21],[119,22,119,34],[120,4,120,7],[120,8,120,10],[120,11,120,21],[120,22,120,34],[114,1,114,7],[114,11,114,21],[114,22,114,34],[115,1,115,7],[115,11,115,21],[115,22,115,34],[116,1,116,7],[116,11,116,21],[116,22,116,34],[111,1,111,7],[111,11,111,21],[111,22,111,34],[112,1,112,7],[112,11,112,21],[112,22,112,34],[113,1,113,7],[113,11,113,21],[113,22,113,34],[105,0,106,1],[105,2,106,8],[105,10,105,15],[105,16,105,32],[110,1,110,8],[110,9,110,10],[110,11,110,21],[110,22,110,34],[99,11,99,34],[100,11,100,34],[101,10,101,34],[102,0,102,2],[102,3,102,7],[102,10,102,34],[104,0,104,1],[104,2,104,8],[104,10,104,32],[95,10,95,14],[95,16,95,20],[95,21,95,22],[95,23,95,26],[95,27,95,28],[95,29,95,32],[95,33,95,34],[97,0,97,6],[98,10,98,28],[98,29,98,34],[90,2,90,7],[90,8,90,10],[90,11,90,22],[90,23,90,34],[91,2,91,7],[91,8,91,10],[91,11,91,22],[91,23,91,34],[92,0,93,20],[93,21,93,25],[93,26,93,29],[93,30,93,34],[87,2,87,7],[87,8,87,10],[87,11,87,22],[87,23,87,34],[88,2,88,7],[88,8,88,10],[88,11,88,22],[88,23,88,34],[89,2,89,7],[89,8,89,10],[89,11,89,22],[89,23,89,34],[77,4,77,7],[77,8,77,10],[77,11,77,21],[77,22,77,34],[81,2,84,3],[81,5,81,6],[81,11,83,18],[81,19,83,26],[81,27,83,34],[83,5,83,6],[83,7,83,9],[74,4,74,7],[74,8,74,10],[74,11,74,21],[74,22,74,34],[75,4,75,7],[75,8,75,10],[75,11,75,21],[75,22,75,34],[76,4,76,7],[76,8,76,10],[76,11,76,21],[76,22,76,34],[70,1,70,7],[70,11,70,21],[70,22,70,34],[71,0,71,21],[71,22,71,34],[73,1,73,3],[73,4,73,7],[73,8,73,10],[73,11,73,21],[73,22,73,34],[67,1,67,7],[67,11,67,21],[67,22,67,34],[68,1,68,7],[68,11,68,21],[68,22,68,34],[69,1,69,7],[69,11,69,21],[69,22,69,34],[64,1,64,8],[64,9,64,10],[64,11,64,21],[64,22,64,34],[65,1,65,7],[65,11,65,21],[65,22,65,34],[66,1,66,7],[66,11,66,21],[66,22,66,34],[58,0,58,1],[58,2,58,8],[58,10,58,32],[59,0,60,1],[59,2,60,8],[59,10,59,15],[59,16,59,32],[51,0,51,6],[52,10,52,28],[52,29,52,34],[53,11,53,34],[54,11,54,34],[55,10,55,34],[56,0,56,2],[56,3,56,7],[56,10,56,34],[46,0,47,20],[47,21,47,25],[47,26,47,29],[47,30,47,34],[49,10,49,14],[49,16,49,20],[49,21,49,22],[49,23,49,26],[49,27,49,28],[49,29,49,32],[49,33,49,34],[45,2,45,7],[45,8,45,10],[45,11,45,22],[45,23,45,34],[43,2,43,7],[43,8,43,10],[43,11,43,22],[43,23,43,34],[44,2,44,7],[44,8,44,10],[44,11,44,22],[44,23,44,34],[41,2,41,7],[41,8,41,10],[41,11,41,22],[41,23,41,34],[42,2,42,7],[42,8,42,10],[42,11,42,22],[42,23,42,34],[35,2,38,3],[35,5,35,6],[35,11,37,18],[35,19,37,26],[35,27,37,34],[37,5,37,6],[37,7,37,9],[30,4,30,7],[30,8,30,10],[30,11,30,21],[30,22,30,34],[31,4,31,7],[31,8,31,10],[31,11,31,21],[31,22,31,34],[28,4,28,7],[28,8,28,10],[28,11,28,21],[28,22,28,34],[29,4,29,7],[29,8,29,10],[29,11,29,21],[29,22,29,34],[24,1,24,7],[24,11,24,21],[24,22,24,34],[25,0,25,21],[25,22,25,34],[27,1,27,3],[27,4,27,7],[27,8,27,10],[27,11,27,21],[27,22,27,34],[22,1,22,7],[22,11,22,21],[22,22,22,34],[23,1,23,7],[23,11,23,21],[23,22,23,34],[20,1,20,7],[20,11,20,21],[20,22,20,34],[21,1,21,7],[21,11,21,21],[21,22,21,34],[18,1,18,8],[18,9,18,10],[18,11,18,21],[18,22,18,34],[19,1,19,7],[19,11,19,21],[19,22,19,34],[13,0,14,1],[13,2,14,8],[13,10,13,15],[13,16,13,32],[9,10,9,34],[10,0,10,2],[10,3,10,7],[10,10,10,34],[12,0,12,1],[12,2,12,8],[12,10,12,32],[3,33,3,34],[5,0,5,6],[6,10,6,28],[6,29,6,34],[7,11,7,34],[8,11,8,34],[0,0,1,20],[1,21,1,25],[1,26,1,29],[1,30,1,34],[3,10,3,14],[3,16,3,20],[3,21,3,22],[3,23,3,26],[3,27,3,28],[3,29,3,32]]}
["御　請　求　書"]
[null,null,null,null,null,null,null,null,null,null,null,null,null,null,null,null,null,null,null,null,null,1,null,null,null,null,"／",null,null,null,1]
[]
[null,null,null,null,null,null,null,null,null,null,"請求日",null,null,null,null,"：","0000",null,null,null,null,"年",null,"00",null,null,null,"月",null,"00",null,null,null,"日"]
[]
["千代田建工株式会社 御中 "]
[null,null,null,null,null,null,null,null,null,"会社名","〇〇〇〇株式会社"]
[null,null,null,null,null,null,null,null,null,"登録番号","T","0000000000000"]
[null,null,null,null,null,null,null,null,null,"住所","〒","000-0000"]
[null,null,null,null,null,null,null,null,null,null,"○○県○○市○○区○○00-00-00○○ビル"]
["請求金額合計",null,null,{"$f":"W32","v":684000},null,null,null,null,null,"電話番号","00-0000-0000"]
[]
["工事件名",null,"令和00年 〇〇〇〇工事",null,null,null,null,null,null,null,"千代田建工発注担当者"]
["施工場所",null,"○○県○○市○○区○○",null,null,null,null,null,null,null,"氏名",null,null,null,null,null,"千代田　太郎"]
[]
[]
[null,null,null,null,null,null,null,null,"「※」","は軽減税率対象、「非」は消費税非課税"]
[]
["日付","項目",null,null,null,null,null,null,null,"数量",null,"単価",null,null,null,null,null,null,null,null,null,null,"金額",null,null,null,null,null,null,null,null,null,null,null,null,null,"「数量」欄の選択肢にない単位は、以下に入力して追加可能です（３つまで）",null,null,null,"消費税区分","※","非"]
["0/0","〇〇",null,null,null,null,null,null,null,50,"㎥",4000,null,null,null,null,null,null,null,null,null,null,{"$f":"IF(J20=\"\",\"\",J20*L20)","v":200000},null,null,null,null,null,null,null,null,null,null,null,null,null,"数量単位","日",null,null,"式","組","㎥","㎡","ｍ","㎝","ｔ","㎏","個","本","箱","枚","台","基","㍑","人","人工"]
["0/0","△△",null,null,null,null,null,null,"※",100,"個",500,null,null,null,null,null,null,null,null,null,null,{"$f":"IF(J21=\"\",\"\",J21*L21)","v":50000}]
["0/0","□□",null,null,null,null,null,null,"非",10,"日",30000,null,null,null,null,null,null,null,null,null,null,{"$f":"IF(J22=\"\",\"\",J22*L22)","v":300000}]
["0/0","◇◇",null,null,null,null,null,null,null,1,"式",100000,null,null,null,null,null,null,null,null,null,null,{"$f":"IF(J23=\"\",\"\",J23*L23)","v":100000}]
[null,null,null,null,null,null,null,null,null,null,null,null,null,null,null,null,null,null,null,null,null,null,{"$f":"IF(J24=\"\",\"\",J24*L24)","v":""}]
[null,null,null,null,null,null,null,null,null,null,null,null,null,null,null,null,null,null,null,null,null,null,""]
["税抜請求金額合計",null,null,null,null,null,null,null,null,null,null,null,null,null,null,null,null,null,null,null,null,null,{"$f":"SUM(W20:AI25)","v":650000}]
[]
[null,null,null,null,null,null,null,null,"税抜課税対象金額",null,null,"消費税額",null,null,null,null,null,null,null,null,null,null,"消費税込金額"]
[null,null,null,null,"10％課税対象合計",null,null,null,{"$f":"SUMIF(I20:I25,\"\",W20:W25)","v":300000},null,null,{"$f":"ROUNDDOWN(I29*10%,0)","v":30000},null,null,null,null,null,null,null,null,null,null,{"$f":"+I29+L29","v":330000}]
[null,null,null,null,"08％課税対象合計",null,null,null,{"$f":"SUMIF(I20:I25,\"※\",W20:W25)","v":50000},null,null,{"$f":"ROUNDDOWN(I30*8%,0)","v":4000},null,null,null,null,null,null,null,null,null,null,{"$f":"+I30+L30","v":54000}]
[null,null,null,null,"非課税合計",null,null,null,{"$f":"SUMIF(I20:I25,\"非\",W20:W25)","v":300000},null,null,"―",null,null,null,null,null,null,null,null,null,null,{"$f":"+I31","v":300000}]
[null,null,null,null,null,null,null,null,{"$f":"SUM(I29:K31)","v":650000},null,null,{"$f":"SUM(L29:V31)","v":34000},null,null,null,null,null,null,null,null,null,null,{"$f":"SUM(W29:AI31)","v":684000}]
[]
["千代田建工社内処理欄"]
[null,null,"受付印",null,null,null,null,null,null,null,null,"社内確認"]
[null,null,null,null,null,"工事番号",null,null,"―"]
[]
[null,null,null,null,null,"処理区分"]
[]
[]
[null,null,"※立替金処理明細"]
[null,null,"立替対象先",null,null,null,null,null,"課税対象金額",null,null,"消費税",null,null,null,null,null,null,null,null,null,null,null,"消費税込金額"]
[]
[null,null,"消費税10％課税対象"]
[null,null,"消費税08％課税対象"]
[null,null,"非課税相当対象"]
["御　請　求　書"]
[null,null,null,null,null,null,null,null,null,null,null,null,null,null,null,null,null,null,null,null,null,1,null,null,null,null,"／",null,null,null,1]
[]
[null,null,null,null,null,null,null,null,null,null,"請求日",null,null,null,null,"：","0000",null,null,null,null,"年",null,"00",null,null,null,"月",null,"00",null,null,null,"日"]
[]
["千代田建工株式会社 御中 "]
[null,null,null,null,null,null,null,null,null,"会社名","〇〇〇〇株式会社"]
[null,null,null,null,null,null,null,null,null,"登録番号","T","0000000000000"]
[null,null,null,null,null,null,null,null,null,"住所","〒","000-0000"]
[null,null,null,null,null,null,null,null,null,null,"○○県○○市○○区○○00-00-00○○ビル"]
["請求金額合計",null,null,{"$f":"W78","v":684000},null,null,null,null,null,"電話番号","00-0000-0000"]
[]
["工事件名",null,"令和00年 〇〇〇〇工事",null,null,null,null,null,null,null,"千代田建工発注担当者"]
["施工場所",null,"○○県○○市○○区○○",null,null,null,null,null,null,null,"氏名",null,null,null,null,null,"千代田　太郎"]
[]
[]
[null,null,null,null,null,null,null,null,"「※」","は軽減税率対象、「非」は消費税非課税"]
[]
["日付","項目",null,null,null,null,null,null,null,"数量",null,"単価",null,null,null,null,null,null,null,null,null,null,"金額"]
["0/0","〇〇",null,null,null,null,null,null,null,50,"㎥",4000,null,null,null,null,null,null,null,null,null,null,{"$f":"IF(J66=\"\",\"\",J66*L66)","v":200000}]
["0/0","△△",null,null,null,null,null,null,"※",100,"個",500,null,null,null,null,null,null,null,null,null,null,{"$f":"IF(J67=\"\",\"\",J67*L67)","v":50000}]
["0/0","□□",null,null,null,null,null,null,"非",10,"日",30000,null,null,null,null,null,null,null,null,null,null,{"$f":"IF(J68=\"\",\"\",J68*L68)","v":300000}]
["0/0","◇◇",null,null,null,null,null,null,null,1,"式",100000,null,null,null,null,null,null,null,null,null,null,{"$f":"IF(J69=\"\",\"\",J69*L69)","v":100000}]
[null,null,null,null,null,null,null,null,null,null,null,null,null,null,null,null,null,null,null,null,null,null,""]
[null,null,null,null,null,null,null,null,null,null,null,null,null,null,null,null,null,null,null,null,null,null,""]
["税抜請求金額合計",null,null,null,null,null,null,null,null,null,null,null,null,null,null,null,null,null,null,null,null,null,{"$f":"SUM(W66:AI71)","v":650000}]
[]
[null,null,null,null,null,null,null,null,"税抜課税対象金額",null,null,"消費税額",null,null,null,null,null,null,null,null,null,null,"消費税込金額"]
[null,null,null,null,"10％課税対象合計",null,null,null,{"$f":"SUMIF(I66:I71,\"\",W66:W71)","v":300000},null,null,{"$f":"ROUNDDOWN(I75*10%,0)","v":30000},null,null,null,null,null,null,null,null,null,null,{"$f":"+I75+L75","v":330000}]
[null,null,null,null,"08％課税対象合計",null,null,null,{"$f":"SUMIF(I66:I71,\"※\",W66:W71)","v":50000},null,null,{"$f":"ROUNDDOWN(I76*8%,0)","v":4000},null,null,null,null,null,null,null,null,null,null,{"$f":"+I76+L76","v":54000}]
[null,null,null,null,"非課税合計",null,null,null,{"$f":"SUMIF(I66:I71,\"非\",W66:W71)","v":300000},null,null,"―",null,null,null,null,null,null,null,null,null,null,{"$f":"+I77","v":300000}]
[null,null,null,null,null,null,null,null,{"$f":"SUM(I75:K77)","v":650000},null,null,{"$f":"SUM(L75:V77)","v":34000},null,null,null,null,null,null,null,null,null,null,{"$f":"SUM(W75:AI77)","v":684000}]
[]
["千代田建工社内処理欄"]
[null,null,"受付印",null,null,null,null,null,null,null,null,"社内確認"]
[null,null,null,null,null,"工事番号",null,null,"―"]
[]
[null,null,null,null,null,"処理区分"]
[]
[]
[null,null,"※立替金処理明細"]
[null,null,"立替対象先",null,null,null,null,null,"課税対象金額",null,null,"消費税",null,null,null,null,null,null,null,null,null,null,null,"消費税込金額"]
[]
[null,null,"消費税10％課税対象"]
[null,null,"消費税08％課税対象"]
[null,null,"非課税相当対象"]
["御　請　求　書"]
[null,null,null,null,null,null,null,null,null,null,null,null,null,null,null,null,null,null,null,null,null,1,null,null,null,null,"／",null,null,null,1]
[]
[null,null,null,null,null,null,null,null,null,null,"請求日",null,null,null,null,"：","0000",null,null,null,null,"年",null,"00",null,null,null,"月",null,"00",null,null,null,"日"]
[]
["千代田建工株式会社 御中 "]
[null,null,null,null,null,null,null,null,null,"会社名","〇〇〇〇株式会社"]
[null,null,null,null,null,null,null,null,null,"登録番号","T","0000000000000"]
[null,null,null,null,null,null,null,null,null,"住所","〒","000-0000"]
[null,null,null,null,null,null,null,null,null,null,"○○県○○市○○区○○00-00-00○○ビル"]
["請求金額合計",null,null,{"$f":"W124","v":684000},null,null,null,null,null,"電話番号","00-0000-0000"]
[]
["工事件名",null,"令和00年 〇〇〇〇工事",null,null,null,null,null,null,null,"千代田建工発注担当者"]
["施工場所",null,"○○県○○市○○区○○",null,null,null,null,null,null,null,"氏名",null,null,null,null,null,"千代田　太郎"]
[]
[]
[null,null,null,null,null,null,null,null,"「※」","は軽減税率対象、「非」は消費税非課税"]
[]
["日付","項目",null,null,null,null,null,null,null,"数量",null,"単価",null,null,null,null,null,null,null,null,null,null,"金額"]
["0/0","〇〇",null,null,null,null,null,null,null,50,"㎥",4000,null,null,null,null,null,null,null,null,null,null,{"$f":"IF(J112=\"\",\"\",J112*L112)","v":200000}]
["0/0","△△",null,null,null,null,null,null,"※",100,"個",500,null,null,null,null,null,null,null,null,null,null,{"$f":"IF(J113=\"\",\"\",J113*L113)","v":50000}]
["0/0","□□",null,null,null,null,null,null,"非",10,"日",30000,null,null,null,null,null,null,null,null,null,null,{"$f":"IF(J114=\"\",\"\",J114*L114)","v":300000}]
["0/0","◇◇",null,null,null,null,null,null,null,1,"式",100000,null,null,null,null,null,null,null,null,null,null,{"$f":"IF(J115=\"\",\"\",J115*L115)","v":100000}]
[null,null,null,null,null,null,null,null,null,null,null,null,null,null,null,null,null,null,null,null,null,null,""]
[null,null,null,null,null,null,null,null,null,null,null,null,null,null,null,null,null,null,null,null,null,null,""]
["税抜請求金額合計",null,null,null,null,null,null,null,null,null,null,null,null,null,null,null,null,null,null,null,null,null,{"$f":"SUM(W112:AI117)","v":650000}]
[]
[null,null,null,null,null,null,null,null,"税抜課税対象金額",null,null,"消費税額",null,null,null,null,null,null,null,null,null,null,"消費税込金額"]
[null,null,null,null,"10％課税対象合計",null,null,null,{"$f":"SUMIF(I112:I117,\"\",W112:W117)","v":300000},null,null,{"$f":"ROUNDDOWN(I121*10%,0)","v":30000},null,null,null,null,null,null,null,null,null,null,{"$f":"+I121+L121","v":330000}]
[null,null,null,null,"08％課税対象合計",null,null,null,{"$f":"SUMIF(I112:I117,\"※\",W112:W117)","v":50000},null,null,{"$f":"ROUNDDOWN(I122*8%,0)","v":4000},null,null,null,null,null,null,null,null,null,null,{"$f":"+I122+L122","v":54000}]
[null,null,null,null,"非課税合計",null,null,null,{"$f":"SUMIF(I112:I117,\"非\",W112:W117)","v":300000},null,null,"―",null,null,null,null,null,null,null,null,null,null,{"$f":"+I123","v":300000}]
[null,null,null,null,null,null,null,null,{"$f":"SUM(I121:K123)","v":650000},null,null,{"$f":"SUM(L121:V123)","v":34000},null,null,null,null,null,null,null,null,null,null,{"$f":"SUM(W121:AI123)","v":684000}]
[]
["千代田建工社内処理欄"]
[null,null,"受付印",null,null,null,null,null,null,null,null,"社内確認"]
[null,null,null,null,null,"工事番号",null,null,"―"]
[]
[null,null,null,null,null,"処理区分"]
[]
[]
[null,null,"※立替金処理明細"]
[null,null,"立替対象先",null,null,null,null,null,"課税対象金額",null,null,"消費税",null,null,null,null,null,null,null,null,null,null,null,"消費税込金額"]
[]
[null,null,"消費税10％課税対象"]
[null,null,"消費税08％課税対象"]
[null,null,"非課税相当対象"]

{"sheet":"請求書","index":1,"n_rows":138,"n_cols":57,"rows_kept":138,"cut":false,"hidden":false,"merged":[[35,11,37,18],[35,19,37,26],[35,27,37,34],[18,9,18,10],[18,11,18,21],[18,22,18,34],[8,11,8,34],[24,22,24,34],[25,0,25,21],[25,22,25,34],[27,1,27,3],[27,4,27,7],[22,1,22,7],[22,11,22,21],[22,22,22,34],[23,1,23,7],[23,11,23,21],[23,22,23,34],[20,1,20,7],[20,11,20,21],[20,22,20,34],[21,1,21,7],[21,11,21,21],[21,22,21,34],[0,0,1,20],[1,21,1,25],[1,26,1,29],[1,30,1,34],[3,10,3,14],[3,16,3,20],[3,21,3,22],[3,23,3,26],[3,27,3,28],[3,29,3,32],[3,33,3,34],[5,0,5,6],[19,1,19,7],[19,11,19,21],[9,10,9,34],[10,10,10,34],[12,0,12,1],[12,2,12,8],[12,10,12,32],[13,0,14,1],[13,2,14,8],[13,10,13,15],[13,16,13,32],[10,0,10,2],[10,3,10,7],[6,10,6,28],[6,29,6,34],[7,11,7,34],[18,1,18,8],[19,22,19,34],[31,8,31,10],[31,11,31,21],[31,22,31,34],[28,4,28,7],[28,8,28,10],[28,11,28,21],[28,22,28,34],[29,11,29,21],[29,22,29,34],[45,11,45,22],[45,23,45,34],[43,2,43,7],[43,8,43,10],[43,11,43,22],[43,23,43,34],[44,2,44,7],[44,8,44,10],[44,11,44,22],[44,23,44,34],[45,2,45,7],[45,8,45,10],[24,1,24,7],[24,11,24,21],[41,11,41,22],[41,23,41,34],[42,2,42,7],[42,8,42,10],[42,11,42,22],[42,23,42,34],[41,2,41,7],[41,8,41,10],[35,2,38,3],[35,5,35,6],[27,8,27,10],[29,4,29,7],[29,8,29,10],[27,11,27,21],[27,22,27,34],[37,5,37,6],[37,7,37,9],[30,4,30,7],[30,8,30,10],[30,11,30,21],[30,22,30,34],[31,4,31,7],[46,0,47,20],[47,21,47,25],[47,26,47,29],[47,30,47,34],[49,10,49,14],[49,16,49,20],[49,21,49,22],[49,23,49,26],[49,27,49,28],[49,29,49,32],[49,33,49,34],[51,0,51,6],[52,10,52,28],[52,29,52,34],[53,11,53,34],[54,11,54,34],[55,10,55,34],[56,0,56,2],[56,3,56,7],[56,10,56,34],[58,0,58,1],[58,2,58,8],[58,10,58,32],[59,0,60,1],[59,2,60,8],[59,10,59,15],[59,16,59,32],[64,1,64,8],[64,9,64,10],[64,11,64,21],[64,22,64,34],[65,1,65,7],[65,11,65,21],[65,22,65,34],[66,1,66,7],[66,11,66,21],[66,22,66,34],[67,1,67,7],[67,11,67,21],[67,22,67,34],[68,1,68,7],[68,11,68,21],[68,22,68,34],[69,1,69,7],[69,11,69,21],[69,22,69,34],[70,1,70,7],[70,11,70,21],[70,22,70,34],[71,0,71,21],[71,22,71,34],[73,1,73,3],[73,4,73,7],[73,8,73,10],[73,11,73,21],[73,22,73,34],[74,4,74,7],[74,8,74,10],[74,11,74,21],[74,22,74,34],[75,4,75,7],[75,8,75,10],[75,11,75,21],[75,22,75,34],[76,4,76,7],[76,8,76,10],[76,11,76,21],[76,22,76,34],[77,4,77,7],[77,8,77,10],[77,11,77,21],[77,22,77,34],[81,2,84,3],[81,5,81,6],[81,11,83,18],[81,19,83,26],[81,27,83,34],[83,5,83,6],[83,7,83,9],[87,2,87,7],[87,8,87,10],[87,11,87,22],[87,23,87,34],[88,2,88,7],[88,8,88,10],[88,11,88,22],[88,23,88,34],[89,2,89,7],[89,8,89,10],[89,11,89,22],[89,23,89,34],[90,2,90,7],[90,8,90,10],[90,11,90,22],[90,23,90,34],[91,2,91,7],[91,8,91,10],[91,11,91,22],[91,23,91,34],[92,0,93,20],[93,21,93,25],[93,26,93,29],[93,30,93,34],[95,10,95,14],[95,16,95,20],[95,21,95,22],[95,23,95,26],[95,27,95,28],[95,29,95,32],[95,33,95,34],[97,0,97,6],[98,10,98,28],[98,29,98,34],[99,11,99,34],[100,11,100,34],[101,10,101,34],[102,0,102,2],[102,3,102,7],[102,10,102,34],[104,0,104,1],[104,2,104,8],[104,10,104,32],[105,0,106,1],[105,2,106,8],[105,10,105,15],[105,16,105,32],[110,1,110,8],[110,9,110,10],[110,11,110,21],[110,22,110,34],[111,1,111,7],[111,11,111,21],[111,22,111,34],[112,1,112,7],[112,11,112,21],[112,22,112,34],[113,1,113,7],[113,11,113,21],[113,22,113,34],[114,1,114,7],[114,11,114,21],[114,22,114,34],[115,1,115,7],[115,11,115,21],[115,22,115,34],[116,1,116,7],[116,11,116,21],[116,22,116,34],[117,0,117,21],[117,22,117,34],[119,1,119,3],[119,4,119,7],[119,8,119,10],[119,11,119,21],[119,22,119,34],[120,4,120,7],[120,8,120,10],[120,11,120,21],[120,22,120,34],[121,4,121,7],[121,8,121,10],[121,11,121,21],[121,22,121,34],[122,4,122,7],[122,8,122,10],[122,11,122,21],[122,22,122,34],[123,4,123,7],[123,8,123,10],[123,11,123,21],[123,22,123,34],[127,2,130,3],[127,5,127,6],[127,11,129,18],[127,19,129,26],[127,27,129,34],[129,5,129,6],[129,7,129,9],[133,2,133,7],[133,8,133,10],[133,11,133,22],[133,23,133,34],[137,2,137,7],[137,8,137,10],[137,11,137,22],[137,23,137,34],[134,2,134,7],[134,8,134,10],[134,11,134,22],[134,23,134,34],[135,2,135,7],[135,8,135,10],[135,11,135,22],[135,23,135,34],[136,2,136,7],[136,8,136,10],[136,11,136,22],[136,23,136,34]]}
["御　請　求　書",null,null,null,null,null,null,null,null,null,null,null,null,null,null,null,null,null,null,null,null,null,null,null,null,null,null,null,null,null,null,null,null,null,null,null,"ver1.0.5"]
[null,null,null,null,null,null,null,null,null,null,null,null,null,null,null,null,null,null,null,null,null,1,null,null,null,null,"／",null,null,null,1]
[]
["未記入（黄色セル）の項目があります",null,null,null,null,null,null,null,null,null,"請求日",null,null,null,null,"：",null,null,null,null,null,"年",null,null,null,null,null,"月",null,null,null,null,null,"日"]
[]
["千代田建工株式会社 御中 "]
[null,null,null,null,null,null,null,null,null,"会社名"]
[null,null,null,null,null,null,null,null,null,"登録番号","T"]
[null,null,null,null,null,null,null,null,null,"住所","〒"]
[]
["請求金額合計",null,null,{"$f":"W32","v":0},null,null,null,null,null,"電話番号"]
[]
["工事件名",null,null,null,null,null,null,null,null,null,"千代田建工発注担当者"]
["施工場所",null,null,null,null,null,null,null,null,null,"氏名"]
[]
[]
[null,null,null,null,null,null,null,null,"「※」","は軽減税率対象、「非」は消費税非課税"]
[]
["日付","項目",null,null,null,null,null,null,null,"数量",null,"単価",null,null,null,null,null,null,null,null,null,null,"金額",null,null,null,null,null,null,null,null,null,null,null,null,null,"「数量」欄の選択肢にない単位は、以下に入力して追加可能です（３つまで）",null,null,null,"消費税区分","※","非"]
[null,null,null,null,null,null,null,null,null,null,null,null,null,null,null,null,null,null,null,null,null,null,{"$f":"IF(J20=\"\",\"\",J20*L20)","v":""},null,null,null,null,null,null,null,null,null,null,null,null,null,"数量単位",null,null,null,"式","組","㎥","㎡","ｍ","㎝","ｔ","㎏","個","本","箱","枚","台","基","㍑","人","人工"]
[null,null,null,null,null,null,null,null,null,null,null,null,null,null,null,null,null,null,null,null,null,null,{"$f":"IF(J21=\"\",\"\",J21*L21)","v":""}]
[null,null,null,null,null,null,null,null,null,null,null,null,null,null,null,null,null,null,null,null,null,null,{"$f":"IF(J22=\"\",\"\",J22*L22)","v":""}]
[null,null,null,null,null,null,null,null,null,null,null,null,null,null,null,null,null,null,null,null,null,null,{"$f":"IF(J23=\"\",\"\",J23*L23)","v":""}]
[null,null,null,null,null,null,null,null,null,null,null,null,null,null,null,null,null,null,null,null,null,null,""]
[null,null,null,null,null,null,null,null,null,null,null,null,null,null,null,null,null,null,null,null,null,null,{"$f":"IF(J25=\"\",\"\",J25*L25)","v":""}]
["税抜請求金額合計",null,null,null,null,null,null,null,null,null,null,null,null,null,null,null,null,null,null,null,null,null,{"$f":"SUM(W20:AI25)","v":0}]
[]
[null,null,null,null,null,null,null,null,"税抜課税対象金額",null,null,"消費税額",null,null,null,null,null,null,null,null,null,null,"消費税込金額"]
[null,null,null,null,"10％課税対象合計",null,null,null,{"$f":"SUMIF(I20:I25,\"\",W20:W25)","v":0},null,null,{"$f":"ROUNDDOWN(I29*10%,0)","v":0},null,null,null,null,null,null,null,null,null,null,{"$f":"+I29+L29","v":0}]
[null,null,null,null,"08％課税対象合計",null,null,null,{"$f":"SUMIF(I20:I25,\"※\",W20:W25)","v":0},null,null,{"$f":"ROUNDDOWN(I30*8%,0)","v":0},null,null,null,null,null,null,null,null,null,null,{"$f":"+I30+L30","v":0}]
[null,null,null,null,"非課税合計",null,null,null,{"$f":"SUMIF(I20:I25,\"非\",W20:W25)","v":0},null,null,"―",null,null,null,null,null,null,null,null,null,null,{"$f":"+I31","v":0}]
[null,null,null,null,null,null,null,null,{"$f":"SUM(I29:K31)","v":0},null,null,{"$f":"SUM(L29:V31)","v":0},null,null,null,null,null,null,null,null,null,null,{"$f":"SUM(W29:AI31)","v":0}]
[]
["千代田建工社内処理欄"]
[null,null,"受付印",null,null,null,null,null,null,null,null,"社内確認"]
[null,null,null,null,null,"工事番号",null,null,"―"]
[]
[null,null,null,null,null,"処理区分"]
[]
[]
[null,null,"※立替金処理明細"]
[null,null,"立替対象先",null,null,null,null,null,"課税対象金額",null,null,"消費税",null,null,null,null,null,null,null,null,null,null,null,"消費税込金額"]
[]
[null,null,"消費税10％課税対象"]
[null,null,"消費税08％課税対象"]
[null,null,"非課税相当対象"]
["御　請　求　書"]
[null,null,null,null,null,null,null,null,null,null,null,null,null,null,null,null,null,null,null,null,null,{"$f":"V2","v":1},null,null,null,null,"／",null,null,null,{"$f":"AE2","v":1}]
[]
[null,null,null,null,null,null,null,null,null,null,"請求日",null,null,null,null,"：",{"$f":"IF($Q$4<>\"\",$Q$4,\"\")","v":""},null,null,null,null,"年",null,{"$f":"IF($X$4<>\"\",$X$4,\"\")","v":""},null,null,null,"月",null,{"$f":"IF($AD$4<>\"\",$AD$4,\"\")","v":""},null,null,null,"日"]
[]
["千代田建工株式会社 御中 "]
[null,null,null,null,null,null,null,null,null,"会社名",{"$f":"IF($K$7<>\"\",$K$7,\"\")","v":""}]
[null,null,null,null,null,null,null,null,null,"登録番号","T",{"$f":"IF($L$8<>\"\",$L$8,\"\")","v":""}]
[null,null,null,null,null,null,null,null,null,"住所","〒",{"$f":"IF($L$9<>\"\",$L$9,\"\")","v":""}]
[null,null,null,null,null,null,null,null,null,null,{"$f":"IF($K$10<>\"\",$K$10,\"\")","v":""}]
["請求金額合計",null,null,{"$f":"W78","v":0},null,null,null,null,null,"電話番号",{"$f":"IF($K$11<>\"\",$K$11,\"\")","v":""}]
[]
["工事件名",null,{"$f":"IF($C$13<>\"\",$C$13,\"\")","v":""},null,null,null,null,null,null,null,"千代田建工発注担当者"]
["施工場所",null,{"$f":"IF($C$14<>\"\",$C$14,\"\")","v":""},null,null,null,null,null,null,null,"氏名",null,null,null,null,null,{"$f":"IF($Q$15<>\"\",$Q$15,\"\")","v":""}]
[]
[]
[null,null,null,null,null,null,null,null,"「※」","は軽減税率対象、「非」は消費税非課税"]
[]
["日付","項目",null,null,null,null,null,null,null,"数量",null,"単価",null,null,null,null,null,null,null,null,null,null,"金額"]
[{"$f":"IF($A$20<>\"\",$A$20,\"\")","v":""},{"$f":"IF($B$20<>\"\",$B$20,\"\")","v":""},null,null,null,null,null,null,{"$f":"IF($I$20<>\"\",$I$20,\"\")","v":""},{"$f":"IF($J$20<>\"\",$J$20,\"\")","v":""},{"$f":"IF($K$20<>\"\",$K$20,\"\")","v":""},{"$f":"IF($L$20<>\"\",$L$20,\"\")","v":""},null,null,null,null,null,null,null,null,null,null,{"$f":"IF($W$20<>\"\",$W$20,\"\")","v":""}]
[{"$f":"IF($A$21<>\"\",$A$21,\"\")","v":""},{"$f":"IF($B$21<>\"\",$B$21,\"\")","v":""},null,null,null,null,null,null,{"$f":"IF($I$21<>\"\",$I$21,\"\")","v":""},{"$f":"IF($J$21<>\"\",$J$21,\"\")","v":""},{"$f":"IF($K$21<>\"\",$K$21,\"\")","v":""},{"$f":"IF($L$21<>\"\",$L$21,\"\")","v":""},null,null,null,null,null,null,null,null,null,null,{"$f":"IF($W$21<>\"\",$W$21,\"\")","v":""}]
[{"$f":"IF($A$22<>\"\",$A$22,\"\")","v":""},{"$f":"IF($B$22<>\"\",$B$22,\"\")","v":""},null,null,null,null,null,null,{"$f":"IF($I$22<>\"\",$I$22,\"\")","v":""},{"$f":"IF($J$22<>\"\",$J$22,\"\")","v":""},{"$f":"IF($K$22<>\"\",$K$22,\"\")","v":""},{"$f":"IF($L$22<>\"\",$L$22,\"\")","v":""},null,null,null,null,null,null,null,null,null,null,{"$f":"IF($W$22<>\"\",$W$22,\"\")","v":""}]
[{"$f":"IF($A$23<>\"\",$A$23,\"\")","v":""},{"$f":"IF($B$23<>\"\",$B$23,\"\")","v":""},null,null,null,null,null,null,{"$f":"IF($I$23<>\"\",$I$23,\"\")","v":""},{"$f":"IF($J$23<>\"\",$J$23,\"\")","v":""},{"$f":"IF($K$23<>\"\",$K$23,\"\")","v":""},{"$f":"IF($L$23<>\"\",$L$23,\"\")","v":""},null,null,null,null,null,null,null,null,null,null,{"$f":"IF($W$23<>\"\",$W$23,\"\")","v":""}]
[{"$f":"IF($A$24<>\"\",$A$24,\"\")","v":""},{"$f":"IF($B$24<>\"\",$B$24,\"\")","v":""},null,null,null,null,null,null,{"$f":"IF($I$24<>\"\",$I$24,\"\")","v":""},{"$f":"IF($J$24<>\"\",$J$24,\"\")","v":""},{"$f":"IF($K$24<>\"\",$K$24,\"\")","v":""},{"$f":"IF($L$24<>\"\",$L$24,\"\")","v":""},null,null,null,null,null,null,null,null,null,null,{"$f":"IF($W$24<>\"\",$W$24,\"\")","v":""}]
[{"$f":"IF($A$25<>\"\",$A$25,\"\")","v":""},{"$f":"IF($B$25<>\"\",$B$25,\"\")","v":""},null,null,null,null,null,null,{"$f":"IF($I$25<>\"\",$I$25,\"\")","v":""},{"$f":"IF($J$25<>\"\",$J$25,\"\")","v":""},{"$f":"IF($K$25<>\"\",$K$25,\"\")","v":""},{"$f":"IF($L$25<>\"\",$L$25,\"\")","v":""},null,null,null,null,null,null,null,null,null,null,{"$f":"IF($W$25<>\"\",$W$25,\"\")","v":""}]
[{"$f":"$A$26","v":"税抜請求金額合計"},null,null,null,null,null,null,null,null,null,null,null,null,null,null,null,null,null,null,null,null,null,{"$f":"SUM(W66:AI71)","v":0}]
[]
[null,null,null,null,null,null,null,null,"税抜課税対象金額",null,null,"消費税額",null,null,null,null,null,null,null,null,null,null,"消費税込金額"]
[null,null,null,null,"10％課税対象合計",null,null,null,{"$f":"I29","v":0},null,null,{"$f":"L29","v":0},null,null,null,null,null,null,null,null,null,null,{"$f":"W29","v":0}]
[null,null,null,null,"08％課税対象合計",null,null,null,{"$f":"I30","v":0},null,null,{"$f":"L30","v":0},null,null,null,null,null,null,null,null,null,null,{"$f":"W30","v":0}]
[null,null,null,null,"非課税合計",null,null,null,{"$f":"I31","v":0},null,null,"―",null,null,null,null,null,null,null,null,null,null,{"$f":"W31","v":0}]
[null,null,null,null,null,null,null,null,{"$f":"I32","v":0},null,null,{"$f":"L32","v":0},null,null,null,null,null,null,null,null,null,null,{"$f":"W32","v":0}]
[]
["千代田建工社内処理欄"]
[null,null,"受付印",null,null,null,null,null,null,null,null,"社内確認"]
[null,null,null,null,null,"工事番号",null,{"$f":"IF($H$36<>\"\",$H$36,\"\")","v":""},"―",{"$f":"IF($J$36<>\"\",$J$36,\"\")","v":""}]
[]
[null,null,null,null,null,"処理区分",null,{"$f":"IF($H$38<>\"\",$H$38,\"\")","v":""}]
[]
[]
[null,null,"※立替金処理明細"]
[null,null,"立替対象先",null,null,null,null,null,"課税対象金額",null,null,"消費税",null,null,null,null,null,null,null,null,null,null,null,"消費税込金額"]
[null,null,{"$f":"IF($C$43<>\"\",$C$43,\"\")","v":""},null,null,null,null,null,{"$f":"IF($I$43<>\"\",$I$43,\"\")","v":""},null,null,{"$f":"IF($L$43<>\"\",$L$43,\"\")","v":""},null,null,null,null,null,null,null,null,null,null,null,{"$f":"IF($X$43<>\"\",$X$43,\"\")","v":""}]
[null,null,"消費税10％課税対象",null,null,null,null,null,{"$f":"IF($I$44<>\"\",$I$44,\"\")","v":""},null,null,{"$f":"IF($L$44<>\"\",$L$44,\"\")","v":""},null,null,null,null,null,null,null,null,null,null,null,{"$f":"IF($X$44<>\"\",$X$44,\"\")","v":""}]
[null,null,"消費税08％課税対象",null,null,null,null,null,{"$f":"IF($I$45<>\"\",$I$45,\"\")","v":""},null,null,{"$f":"IF($L$45<>\"\",$L$45,\"\")","v":""},null,null,null,null,null,null,null,null,null,null,null,{"$f":"IF($X$45<>\"\",$X$45,\"\")","v":""}]
[null,null,"非課税相当対象",null,null,null,null,null,{"$f":"IF($I$46<>\"\",$I$46,\"\")","v":""},null,null,{"$f":"IF($L$46<>\"\",$L$46,\"\")","v":""},null,null,null,null,null,null,null,null,null,null,null,{"$f":"IF($X$46<>\"\",$X$46,\"\")","v":""}]
["御　請　求　書"]
[null,null,null,null,null,null,null,null,null,null,null,null,null,null,null,null,null,null,null,null,null,{"$f":"V2","v":1},null,null,null,null,"／",null,null,null,{"$f":"AE2","v":1}]
[]
[null,null,null,null,null,null,null,null,null,null,"請求日",null,null,null,null,"：",{"$f":"IF(Q50<>\"\",Q50,\"\")","v":""},null,null,null,null,"年",null,{"$f":"IF(X50<>\"\",X50,\"\")","v":""},null,null,null,"月",null,{"$f":"IF(AD50<>\"\",AD50,\"\")","v":""},null,null,null,"日"]
[]
["千代田建工株式会社 御中 "]
[null,null,null,null,null,null,null,null,null,"会社名",{"$f":"IF($K$7<>\"\",$K$7,\"\")","v":""}]
[null,null,null,null,null,null,null,null,null,"登録番号","T",{"$f":"IF($L$8<>\"\",$L$8,\"\")","v":""}]
[null,null,null,null,null,null,null,null,null,"住所","〒",{"$f":"IF($L$9<>\"\",$L$9,\"\")","v":""}]
[null,null,null,null,null,null,null,null,null,null,{"$f":"IF($K$10<>\"\",$K$10,\"\")","v":""}]
["請求金額合計",null,null,{"$f":"W124","v":0},null,null,null,null,null,"電話番号",{"$f":"IF($K$11<>\"\",$K$11,\"\")","v":""}]
[]
["工事件名",null,{"$f":"IF($C$13<>\"\",$C$13,\"\")","v":""},null,null,null,null,null,null,null,"千代田建工発注担当者"]
["施工場所",null,{"$f":"IF($C$14<>\"\",$C$14,\"\")","v":""},null,null,null,null,null,null,null,"氏名",null,null,null,null,null,{"$f":"IF($Q$15<>\"\",$Q$15,\"\")","v":""}]
[]
[]
[null,null,null,null,null,null,null,null,"「※」","は軽減税率対象、「非」は消費税非課税"]
[]
["日付","項目",null,null,null,null,null,null,null,"数量",null,"単価",null,null,null,null,null,null,null,null,null,null,"金額"]
[{"$f":"IF($A$20<>\"\",$A$20,\"\")","v":""},{"$f":"IF($B$20<>\"\",$B$20,\"\")","v":""},null,null,null,null,null,null,{"$f":"IF($I$20<>\"\",$I$20,\"\")","v":""},{"$f":"IF($J$20<>\"\",$J$20,\"\")","v":""},{"$f":"IF($K$20<>\"\",$K$20,\"\")","v":""},{"$f":"IF($L$20<>\"\",$L$20,\"\")","v":""},null,null,null,null,null,null,null,null,null,null,{"$f":"IF($W$20<>\"\",$W$20,\"\")","v":""}]
[{"$f":"IF($A$21<>\"\",$A$21,\"\")","v":""},{"$f":"IF($B$21<>\"\",$B$21,\"\")","v":""},null,null,null,null,null,null,{"$f":"IF($I$21<>\"\",$I$21,\"\")","v":""},{"$f":"IF($J$21<>\"\",$J$21,\"\")","v":""},{"$f":"IF($K$21<>\"\",$K$21,\"\")","v":""},{"$f":"IF($L$21<>\"\",$L$21,\"\")","v":""},null,null,null,null,null,null,null,null,null,null,{"$f":"IF($W$21<>\"\",$W$21,\"\")","v":""}]
[{"$f":"IF($A$22<>\"\",$A$22,\"\")","v":""},{"$f":"IF($B$22<>\"\",$B$22,\"\")","v":""},null,null,null,null,null,null,{"$f":"IF($I$22<>\"\",$I$22,\"\")","v":""},{"$f":"IF($J$22<>\"\",$J$22,\"\")","v":""},{"$f":"IF($K$22<>\"\",$K$22,\"\")","v":""},{"$f":"IF($L$22<>\"\",$L$22,\"\")","v":""},null,null,null,null,null,null,null,null,null,null,{"$f":"IF($W$22<>\"\",$W$22,\"\")","v":""}]
[{"$f":"IF($A$23<>\"\",$A$23,\"\")","v":""},{"$f":"IF($B$23<>\"\",$B$23,\"\")","v":""},null,null,null,null,null,null,{"$f":"IF($I$23<>\"\",$I$23,\"\")","v":""},{"$f":"IF($J$23<>\"\",$J$23,\"\")","v":""},{"$f":"IF($K$23<>\"\",$K$23,\"\")","v":""},{"$f":"IF($L$23<>\"\",$L$23,\"\")","v":""},null,null,null,null,null,null,null,null,null,null,{"$f":"IF($W$23<>\"\",$W$23,\"\")","v":""}]
[{"$f":"IF($A$24<>\"\",$A$24,\"\")","v":""},{"$f":"IF($B$24<>\"\",$B$24,\"\")","v":""},null,null,null,null,null,null,{"$f":"IF($I$24<>\"\",$I$24,\"\")","v":""},{"$f":"IF($J$24<>\"\",$J$24,\"\")","v":""},{"$f":"IF($K$24<>\"\",$K$24,\"\")","v":""},{"$f":"IF($L$24<>\"\",$L$24,\"\")","v":""},null,null,null,null,null,null,null,null,null,null,{"$f":"IF($W$24<>\"\",$W$24,\"\")","v":""}]
[{"$f":"IF($A$25<>\"\",$A$25,\"\")","v":""},{"$f":"IF($B$25<>\"\",$B$25,\"\")","v":""},null,null,null,null,null,null,{"$f":"IF($I$25<>\"\",$I$25,\"\")","v":""},{"$f":"IF($J$25<>\"\",$J$25,\"\")","v":""},{"$f":"IF($K$25<>\"\",$K$25,\"\")","v":""},{"$f":"IF($L$25<>\"\",$L$25,\"\")","v":""},null,null,null,null,null,null,null,null,null,null,{"$f":"IF($W$25<>\"\",$W$25,\"\")","v":""}]
[{"$f":"$A$26","v":"税抜請求金額合計"},null,null,null,null,null,null,null,null,null,null,null,null,null,null,null,null,null,null,null,null,null,{"$f":"SUM(W112:AI117)","v":0}]
[]
[null,null,null,null,null,null,null,null,"税抜課税対象金額",null,null,"消費税額",null,null,null,null,null,null,null,null,null,null,"消費税込金額"]
[null,null,null,null,"10％課税対象合計",null,null,null,{"$f":"I29","v":0},null,null,{"$f":"L29","v":0},null,null,null,null,null,null,null,null,null,null,{"$f":"W29","v":0}]
[null,null,null,null,"08％課税対象合計",null,null,null,{"$f":"I30","v":0},null,null,{"$f":"L30","v":0},null,null,null,null,null,null,null,null,null,null,{"$f":"W30","v":0}]
[null,null,null,null,"非課税合計",null,null,null,{"$f":"I31","v":0},null,null,"―",null,null,null,null,null,null,null,null,null,null,{"$f":"W31","v":0}]
[null,null,null,null,null,null,null,null,{"$f":"I32","v":0},null,null,{"$f":"L32","v":0},null,null,null,null,null,null,null,null,null,null,{"$f":"W32","v":0}]
[]
["千代田建工社内処理欄"]
[null,null,"受付印",null,null,null,null,null,null,null,null,"社内確認"]
[null,null,null,null,null,"工事番号",null,{"$f":"IF($H$36<>\"\",$H$36,\"\")","v":""},"―",{"$f":"IF($J$36<>\"\",$J$36,\"\")","v":""}]
[]
[null,null,null,null,null,"処理区分",null,{"$f":"IF($H$38<>\"\",$H$38,\"\")","v":""}]
[]
[]
[null,null,"※立替金処理明細"]
[null,null,"立替対象先",null,null,null,null,null,"課税対象金額",null,null,"消費税",null,null,null,null,null,null,null,null,null,null,null,"消費税込金額"]
[null,null,{"$f":"IF($C$43<>\"\",$C$43,\"\")","v":""},null,null,null,null,null,{"$f":"IF($I$43<>\"\",$I$43,\"\")","v":""},null,null,{"$f":"IF($L$43<>\"\",$L$43,\"\")","v":""},null,null,null,null,null,null,null,null,null,null,null,{"$f":"IF($X$43<>\"\",$X$43,\"\")","v":""}]
[null,null,"消費税10％課税対象",null,null,null,null,null,{"$f":"IF($I$44<>\"\",$I$44,\"\")","v":""},null,null,{"$f":"IF($L$44<>\"\",$L$44,\"\")","v":""},null,null,null,null,null,null,null,null,null,null,null,{"$f":"IF($X$44<>\"\",$X$44,\"\")","v":""}]
[null,null,"消費税08％課税対象",null,null,null,null,null,{"$f":"IF($I$45<>\"\",$I$45,\"\")","v":""},null,null,{"$f":"IF($L$45<>\"\",$L$45,\"\")","v":""},null,null,null,null,null,null,null,null,null,null,null,{"$f":"IF($X$45<>\"\",$X$45,\"\")","v":""}]
[null,null,"非課税相当対象",null,null,null,null,null,{"$f":"IF($I$46<>\"\",$I$46,\"\")","v":""},null,null,{"$f":"IF($L$46<>\"\",$L$46,\"\")","v":""},null,null,null,null,null,null,null,null,null,null,null,{"$f":"IF($X$46<>\"\",$X$46,\"\")","v":""}]

{"sheet":"2ページ目以降","index":2,"n_rows":138,"n_cols":34,"rows_kept":138,"cut":false,"hidden":true,"merged":[[135,1,135,7],[135,11,135,21],[135,22,135,34],[136,0,136,21],[136,22,136,34],[137,0,137,21],[137,22,137,34],[132,1,132,7],[132,11,132,21],[132,22,132,34],[133,1,133,7],[133,11,133,21],[133,22,133,34],[134,1,134,7],[134,11,134,21],[134,22,134,34],[129,1,129,7],[129,11,129,21],[129,22,129,34],[130,1,130,7],[130,11,130,21],[130,22,130,34],[131,1,131,7],[131,11,131,21],[131,22,131,34],[126,1,126,7],[126,11,126,21],[126,22,126,34],[127,1,127,7],[127,11,127,21],[127,22,127,34],[128,1,128,7],[128,11,128,21],[128,22,128,34],[123,1,123,7],[123,11,123,21],[123,22,123,34],[124,1,124,7],[124,11,124,21],[124,22,124,34],[125,1,125,7],[125,11,125,21],[125,22,125,34],[120,1,120,7],[120,11,120,21],[120,22,120,34],[121,1,121,7],[121,11,121,21],[121,22,121,34],[122,1,122,7],[122,11,122,21],[122,22,122,34],[117,1,117,7],[117,11,117,21],[117,22,117,34],[118,1,118,7],[118,11,118,21],[118,22,118,34],[119,1,119,7],[119,11,119,21],[119,22,119,34],[114,1,114,7],[114,11,114,21],[114,22,114,34],[115,1,115,7],[115,11,115,21],[115,22,115,34],[116,1,116,7],[116,11,116,21],[116,22,116,34],[111,1,111,7],[111,11,111,21],[111,22,111,34],[112,1,112,7],[112,11,112,21],[112,22,112,34],[113,1,113,7],[113,11,113,21],[113,22,113,34],[105,0,106,1],[105,2,106,8],[105,10,105,15],[105,16,105,32],[110,1,110,8],[110,9,110,10],[110,11,110,21],[110,22,110,34],[97,0,97,6],[98,10,98,28],[98,29,98,34],[99,11,99,34],[100,11,100,34],[101,10,101,34],[102,10,102,34],[104,0,104,1],[104,2,104,8],[104,10,104,32],[89,1,89,7],[89,11,89,21],[89,22,89,34],[90,0,90,21],[90,22,90,34],[91,0,91,21],[91,22,91,34],[95,10,95,14],[95,16,95,20],[95,21,95,22],[95,23,95,26],[95,27,95,28],[95,29,95,32],[95,33,95,34],[92,0,93,20],[93,21,93,25],[93,26,93,29],[93,30,93,34],[86,1,86,7],[86,11,86,21],[86,22,86,34],[87,1,87,7],[87,11,87,21],[87,22,87,34],[88,1,88,7],[88,11,88,21],[88,22,88,34],[83,1,83,7],[83,11,83,21],[83,22,83,34],[84,1,84,7],[84,11,84,21],[84,22,84,34],[85,1,85,7],[85,11,85,21],[85,22,85,34],[80,1,80,7],[80,11,80,21],[80,22,80,34],[81,1,81,7],[81,11,81,21],[81,22,81,34],[82,1,82,7],[82,11,82,21],[82,22,82,34],[77,1,77,7],[77,11,77,21],[77,22,77,34],[78,1,78,7],[78,11,78,21],[78,22,78,34],[79,1,79,7],[79,11,79,21],[79,22,79,34],[74,1,74,7],[74,11,74,21],[74,22,74,34],[75,1,75,7],[75,11,75,21],[75,22,75,34],[76,1,76,7],[76,11,76,21],[76,22,76,34],[71,1,71,7],[71,11,71,21],[71,22,71,34],[72,1,72,7],[72,11,72,21],[72,22,72,34],[73,1,73,7],[73,11,73,21],[73,22,73,34],[68,1,68,7],[68,11,68,21],[68,22,68,34],[69,1,69,7],[69,11,69,21],[69,22,69,34],[70,1,70,7],[70,11,70,21],[70,22,70,34],[65,1,65,7],[65,11,65,21],[65,22,65,34],[66,1,66,7],[66,11,66,21],[66,22,66,34],[67,1,67,7],[67,11,67,21],[67,22,67,34],[59,0,60,1],[59,2,60,8],[59,10,59,15],[59,16,59,32],[64,1,64,8],[64,9,64,10],[64,11,64,21],[64,22,64,34],[51,0,51,6],[52,10,52,28],[52,29,52,34],[53,11,53,34],[54,11,54,34],[55,10,55,34],[56,10,56,34],[58,0,58,1],[58,2,58,8],[58,10,58,32],[0,0,1,20],[1,21,1,25],[1,26,1,29],[1,30,1,34],[10,10,10,34],[8,11,8,34],[9,10,9,34],[7,11,7,34],[6,10,6,28],[6,29,6,34],[5,0,5,6],[3,33,3,34],[3,10,3,14],[3,16,3,20],[3,21,3,22],[3,23,3,26],[3,27,3,28],[3,29,3,32],[13,0,14,1],[13,2,14,8],[13,10,13,15],[13,16,13,32],[12,0,12,1],[12,2,12,8],[12,10,12,32],[20,1,20,7],[20,11,20,21],[20,22,20,34],[19,1,19,7],[19,11,19,21],[19,22,19,34],[18,1,18,8],[18,9,18,10],[18,11,18,21],[18,22,18,34],[23,1,23,7],[23,11,23,21],[23,22,23,34],[22,1,22,7],[22,11,22,21],[22,22,22,34],[21,1,21,7],[21,11,21,21],[21,22,21,34],[26,1,26,7],[26,11,26,21],[26,22,26,34],[25,1,25,7],[25,11,25,21],[25,22,25,34],[24,1,24,7],[24,11,24,21],[24,22,24,34],[29,1,29,7],[29,11,29,21],[29,22,29,34],[28,1,28,7],[28,11,28,21],[28,22,28,34],[27,1,27,7],[27,11,27,21],[27,22,27,34],[32,1,32,7],[32,11,32,21],[32,22,32,34],[31,1,31,7],[31,11,31,21],[31,22,31,34],[30,1,30,7],[30,11,30,21],[30,22,30,34],[35,1,35,7],[35,11,35,21],[35,22,35,34],[34,1,34,7],[34,11,34,21],[34,22,34,34],[33,1,33,7],[33,11,33,21],[33,22,33,34],[38,1,38,7],[38,11,38,21],[38,22,38,34],[37,1,37,7],[37,11,37,21],[37,22,37,34],[36,1,36,7],[36,11,36,21],[36,22,36,34],[41,1,41,7],[41,11,41,21],[41,22,41,34],[40,1,40,7],[40,11,40,21],[40,22,40,34],[39,1,39,7],[39,11,39,21],[39,22,39,34],[43,1,43,7],[43,11,43,21],[43,22,43,34],[42,1,42,7],[42,11,42,21],[42,22,42,34],[44,0,44,21],[44,22,44,34],[45,0,45,21],[45,22,45,34],[46,0,47,20],[47,21,47,25],[47,26,47,29],[47,30,47,34],[49,10,49,14],[49,16,49,20],[49,21,49,22],[49,23,49,26],[49,27,49,28],[49,29,49,32],[49,33,49,34]]}
["御　請　求　書"]
[null,null,null,null,null,null,null,null,null,null,null,null,null,null,null,null,null,null,null,null,null,{"$f":"+A45","v":0},null,null,null,null,"／",null,null,null,{"$f":"請求書!$AE$2","v":1}]
[]
[null,null,null,null,null,null,null,null,null,null,"請求日",null,null,null,null,"：",{"$f":"IF(請求書!$Q$4=0,\"\",請求書!$Q$4)","v":""},null,null,null,null,"年",null,{"$f":"IF(請求書!$X$4=0,\"\",請求書!$X$4)","v":""},null,null,null,"月",null,{"$f":"IF(請求書!$AD$4=0,\"\",請求書!$AD$4)","v":""},null,null,null,"日"]
[]
[{"$f":"請求書!$A$6","v":"千代田建工株式会社 御中 "}]
[null,null,null,null,null,null,null,null,null,"会社名",{"$f":"IF(請求書!$K$7=0,\"\",請求書!$K$7)","v":""}]
[null,null,null,null,null,null,null,null,null,"登録番号","T",{"$f":"IF(請求書!$L$8=0,\"\",請求書!$L$8)","v":""}]
[null,null,null,null,null,null,null,null,null,"住所","〒",{"$f":"IF(請求書!$L$9=0,\"\",請求書!$L$9)","v":""}]
[null,null,null,null,null,null,null,null,null,null,{"$f":"IF(請求書!$K$10=0,\"\",請求書!$K$10)","v":""}]
[null,null,null,null,null,null,null,null,null,"電話番号",{"$f":"IF(請求書!$K$11=0,\"\",請求書!$K$11)","v":""}]
[]
["工事件名",null,{"$f":"IF(請求書!$C$13=0,\"\",請求書!$C$13)","v":""},null,null,null,null,null,null,null,"千代田建工発注担当者"]
["施工場所",null,{"$f":"IF(請求書!$C$14=0,\"\",請求書!$C$14)","v":""},null,null,null,null,null,null,null,"氏名",null,null,null,null,null,{"$f":"IF(請求書!$Q$15=0,\"\",請求書!$Q$15)","v":""}]
[]
[]
[null,null,null,null,null,null,null,null,"「※」","は軽減税率対象、「非」は消費税非課税"]
[]
["日付","項目",null,null,null,null,null,null,null,"数量",null,"単価",null,null,null,null,null,null,null,null,null,null,"金額"]
[null,null,null,null,null,null,null,null,null,null,null,null,null,null,null,null,null,null,null,null,null,null,{"$f":"IF(J20=\"\",\"\",J20*L20)","v":""}]
[null,null,null,null,null,null,null,null,null,null,null,null,null,null,null,null,null,null,null,null,null,null,{"$f":"IF(J21=\"\",\"\",J21*L21)","v":""}]
[null,null,null,null,null,null,null,null,null,null,null,null,null,null,null,null,null,null,null,null,null,null,""]
[null,null,null,null,null,null,null,null,null,null,null,null,null,null,null,null,null,null,null,null,null,null,""]
[null,null,null,null,null,null,null,null,null,null,null,null,null,null,null,null,null,null,null,null,null,null,""]
[null,null,null,null,null,null,null,null,null,null,null,null,null,null,null,null,null,null,null,null,null,null,""]
[null,null,null,null,null,null,null,null,null,null,null,null,null,null,null,null,null,null,null,null,null,null,""]
[null,null,null,null,null,null,null,null,null,null,null,null,null,null,null,null,null,null,null,null,null,null,""]
[null,null,null,null,null,null,null,null,null,null,null,null,null,null,null,null,null,null,null,null,null,null,""]
[null,null,null,null,null,null,null,null,null,null,null,null,null,null,null,null,null,null,null,null,null,null,""]
[null,null,null,null,null,null,null,null,null,null,null,null,null,null,null,null,null,null,null,null,null,null,""]
[null,null,null,null,null,null,null,null,null,null,null,null,null,null,null,null,null,null,null,null,null,null,""]
[null,null,null,null,null,null,null,null,null,null,null,null,null,null,null,null,null,null,null,null,null,null,""]
[null,null,null,null,null,null,null,null,null,null,null,null,null,null,null,null,null,null,null,null,null,null,""]
[null,null,null,null,null,null,null,null,null,null,null,null,null,null,null,null,null,null,null,null,null,null,""]
[null,null,null,null,null,null,null,null,null,null,null,null,null,null,null,null,null,null,null,null,null,null,""]
[null,null,null,null,null,null,null,null,null,null,null,null,null,null,null,null,null,null,null,null,null,null,""]
[null,null,null,null,null,null,null,null,null,null,null,null,null,null,null,null,null,null,null,null,null,null,""]
[null,null,null,null,null,null,null,null,null,null,null,null,null,null,null,null,null,null,null,null,null,null,""]
[null,null,null,null,null,null,null,null,null,null,null,null,null,null,null,null,null,null,null,null,null,null,""]
[null,null,null,null,null,null,null,null,null,null,null,null,null,null,null,null,null,null,null,null,null,null,""]
[null,null,null,null,null,null,null,null,null,null,null,null,null,null,null,null,null,null,null,null,null,null,""]
[null,null,null,null,null,null,null,null,null,null,null,null,null,null,null,null,null,null,null,null,null,null,""]
[null,null,null,null,null,null,null,null,null,null,null,null,null,null,null,null,null,null,null,null,null,null,""]
[null,null,null,null,null,null,null,null,null,null,null,null,null,null,null,null,null,null,null,null,null,null,""]
[null,null,null,null,null,null,null,null,null,null,null,null,null,null,null,null,null,null,null,null,null,null,{"$f":"SUM(W20:AI44)","v":0}]
["税抜請求金額合計"]
["御　請　求　書"]
[null,null,null,null,null,null,null,null,null,null,null,null,null,null,null,null,null,null,null,null,null,{"$f":"V2","v":0},null,null,null,null,"／",null,null,null,{"$f":"AE2","v":1}]
[]
[null,null,null,null,null,null,null,null,null,null,"請求日",null,null,null,null,"：",{"$f":"IF(請求書!$Q$4=0,\"\",請求書!$Q$4)","v":""},null,null,null,null,"年",null,{"$f":"IF(請求書!$X$4=0,\"\",請求書!$X$4)","v":""},null,null,null,"月",null,{"$f":"IF(請求書!$AD$4=0,\"\",請求書!$AD$4)","v":""},null,null,null,"日"]
[]
[{"$f":"請求書!$A$6","v":"千代田建工株式会社 御中 "}]
[null,null,null,null,null,null,null,null,null,"会社名",{"$f":"IF(請求書!$K$7=0,\"\",請求書!$K$7)","v":""}]
[null,null,null,null,null,null,null,null,null,"登録番号","T",{"$f":"IF(請求書!$L$8=0,\"\",請求書!$L$8)","v":""}]
[null,null,null,null,null,null,null,null,null,"住所","〒",{"$f":"IF(請求書!$L$9=0,\"\",請求書!$L$9)","v":""}]
[null,null,null,null,null,null,null,null,null,null,{"$f":"IF(請求書!$K$10=0,\"\",請求書!$K$10)","v":""}]
[null,null,null,null,null,null,null,null,null,"電話番号",{"$f":"IF(請求書!$K$11=0,\"\",請求書!$K$11)","v":""}]
[]
["工事件名",null,{"$f":"IF(請求書!$C$13=0,\"\",請求書!$C$13)","v":""},null,null,null,null,null,null,null,"千代田建工発注担当者"]
["施工場所",null,{"$f":"IF(請求書!$C$14=0,\"\",請求書!$C$14)","v":""},null,null,null,null,null,null,null,"氏名",null,null,null,null,null,{"$f":"IF(請求書!$Q$15=0,\"\",請求書!$Q$15)","v":""}]
[]
[]
[null,null,null,null,null,null,null,null,"「※」","は軽減税率対象、「非」は消費税非課税"]
[]
["日付","項目",null,null,null,null,null,null,null,"数量",null,"単価",null,null,null,null,null,null,null,null,null,null,"金額"]
[{"$f":"IF(A20<>\"\",A20,\"\")","v":""},"",null,null,null,null,null,null,{"$f":"IF(I20<>\"\",I20,\"\")","v":""},"","","",null,null,null,null,null,null,null,null,null,null,{"$f":"IF(J66=\"\",\"\",J66*L66)","v":""}]
["","",null,null,null,null,null,null,"","","","",null,null,null,null,null,null,null,null,null,null,""]
["","",null,null,null,null,null,null,"","","","",null,null,null,null,null,null,null,null,null,null,""]
["","",null,null,null,null,null,null,"","","","",null,null,null,null,null,null,null,null,null,null,""]
["","",null,null,null,null,null,null,"","","","",null,null,null,null,null,null,null,null,null,null,""]
["","",null,null,null,null,null,null,"","","","",null,null,null,null,null,null,null,null,null,null,""]
["","",null,null,null,null,null,null,"","","","",null,null,null,null,null,null,null,null,null,null,""]
["","",null,null,null,null,null,null,"","","","",null,null,null,null,null,null,null,null,null,null,""]
["","",null,null,null,null,null,null,"","","","",null,null,null,null,null,null,null,null,null,null,""]
["","",null,null,null,null,null,null,"","","","",null,null,null,null,null,null,null,null,null,null,""]
["","",null,null,null,null,null,null,"","","","",null,null,null,null,null,null,null,null,null,null,""]
["","",null,null,null,null,null,null,"","","","",null,null,null,null,null,null,null,null,null,null,""]
["","",null,null,null,null,null,null,"","","","",null,null,null,null,null,null,null,null,null,null,""]
["","",null,null,null,null,null,null,"","","","",null,null,null,null,null,null,null,null,null,null,""]
["","",null,null,null,null,null,null,"","","","",null,null,null,null,null,null,null,null,null,null,{"$f":"IF(J80=\"\",\"\",J80*L80)","v":""}]
["","",null,null,null,null,null,null,"","","","",null,null,null,null,null,null,null,null,null,null,{"$f":"IF(J81=\"\",\"\",J81*L81)","v":""}]
[{"$f":"IF(A37<>\"\",A37,\"\")","v":""},{"$f":"IF(B36<>\"\",B36,\"\")","v":""},null,null,null,null,null,null,"","","","",null,null,null,null,null,null,null,null,null,null,""]
[{"$f":"IF(A37<>\"\",A37,\"\")","v":""},"",null,null,null,null,null,null,"","","","",null,null,null,null,null,null,null,null,null,null,""]
["","",null,null,null,null,null,null,"","","","",null,null,null,null,null,null,null,null,null,null,""]
["","",null,null,null,null,null,null,"","","","",null,null,null,null,null,null,null,null,null,null,""]
["","",null,null,null,null,null,null,"","","","",null,null,null,null,null,null,null,null,null,null,""]
["","",null,null,null,null,null,null,"","","","",null,null,null,null,null,null,null,null,null,null,""]
["","",null,null,null,null,null,null,"","","","",null,null,null,null,null,null,null,null,null,null,""]
["","",null,null,null,null,null,null,"","","","",null,null,null,null,null,null,null,null,null,null,""]
["","",null,null,null,null,null,null,"","","","",null,null,null,null,null,null,null,null,null,null,""]
[{"$f":"IF(A45<>\"\",A45,\"\")","v":""},null,null,null,null,null,null,null,null,null,null,null,null,null,null,null,null,null,null,null,null,null,{"$f":"W45","v":0}]
["税抜請求金額合計",null,null,null,null,null,null,null,null,null,null,null,null,null,null,null,null,null,null,null,null,null,{"$f":"IF(W46<>\"\",W46,\"\")","v":""}]
["御　請　求　書"]
[null,null,null,null,null,null,null,null,null,null,null,null,null,null,null,null,null,null,null,null,null,{"$f":"V48","v":0},null,null,null,null,"／",null,null,null,{"$f":"AE48","v":1}]
[]
[null,null,null,null,null,null,null,null,null,null,"請求日",null,null,null,null,"：",{"$f":"IF(請求書!$Q$4=0,\"\",請求書!$Q$4)","v":""},null,null,null,null,"年",null,{"$f":"IF(請求書!$X$4=0,\"\",請求書!$X$4)","v":""},null,null,null,"月",null,{"$f":"IF(請求書!$AD$4=0,\"\",請求書!$AD$4)","v":""},null,null,null,"日"]
[]
[{"$f":"請求書!$A$6","v":"千代田建工株式会社 御中 "}]
[null,null,null,null,null,null,null,null,null,"会社名",{"$f":"IF(請求書!$K$7=0,\"\",請求書!$K$7)","v":""}]
[null,null,null,null,null,null,null,null,null,"登録番号","T",{"$f":"IF(請求書!$L$8=0,\"\",請求書!$L$8)","v":""}]
[null,null,null,null,null,null,null,null,null,"住所","〒",{"$f":"IF(請求書!$L$9=0,\"\",請求書!$L$9)","v":""}]
[null,null,null,null,null,null,null,null,null,null,{"$f":"IF(請求書!$K$10=0,\"\",請求書!$K$10)","v":""}]
[null,null,null,null,null,null,null,null,null,"電話番号",{"$f":"IF(請求書!$K$11=0,\"\",請求書!$K$11)","v":""}]
[]
["工事件名",null,{"$f":"IF(請求書!$C$13=0,\"\",請求書!$C$13)","v":""},null,null,null,null,null,null,null,"千代田建工発注担当者"]
["施工場所",null,{"$f":"IF(請求書!$C$14=0,\"\",請求書!$C$14)","v":""},null,null,null,null,null,null,null,"氏名",null,null,null,null,null,{"$f":"IF(請求書!$Q$15=0,\"\",請求書!$Q$15)","v":""}]
[]
[]
[null,null,null,null,null,null,null,null,"「※」","は軽減税率対象、「非」は消費税非課税"]
[]
["日付","項目",null,null,null,null,null,null,null,"数量",null,"単価",null,null,null,null,null,null,null,null,null,null,"金額"]
[{"$f":"IF(A20<>\"\",A20,\"\")","v":""},"",null,null,null,null,null,null,{"$f":"IF(I20<>\"\",I20,\"\")","v":""},"","","",null,null,null,null,null,null,null,null,null,null,{"$f":"IF(J112=\"\",\"\",J112*L112)","v":""}]
["","",null,null,null,null,null,null,"","","","",null,null,null,null,null,null,null,null,null,null,{"$f":"IF(J113=\"\",\"\",J113*L113)","v":""}]
["","",null,null,null,null,null,null,"","","","",null,null,null,null,null,null,null,null,null,null,""]
["","",null,null,null,null,null,null,"","","","",null,null,null,null,null,null,null,null,null,null,""]
["","",null,null,null,null,null,null,"","","","",null,null,null,null,null,null,null,null,null,null,""]
["","",null,null,null,null,null,null,"","","","",null,null,null,null,null,null,null,null,null,null,""]
["","",null,null,null,null,null,null,"","","","",null,null,null,null,null,null,null,null,null,null,""]
["","",null,null,null,null,null,null,"","","","",null,null,null,null,null,null,null,null,null,null,""]
["","",null,null,null,null,null,null,"","","","",null,null,null,null,null,null,null,null,null,null,""]
["","",null,null,null,null,null,null,"","","","",null,null,null,null,null,null,null,null,null,null,""]
["","",null,null,null,null,null,null,"","","","",null,null,null,null,null,null,null,null,null,null,""]
["","",null,null,null,null,null,null,"","","","",null,null,null,null,null,null,null,null,null,null,""]
["","",null,null,null,null,null,null,"","","","",null,null,null,null,null,null,null,null,null,null,""]
["","",null,null,null,null,null,null,"","","","",null,null,null,null,null,null,null,null,null,null,""]
["","",null,null,null,null,null,null,"","","","",null,null,null,null,null,null,null,null,null,null,""]
["","",null,null,null,null,null,null,"","","","",null,null,null,null,null,null,null,null,null,null,""]
["","",null,null,null,null,null,null,"","","","",null,null,null,null,null,null,null,null,null,null,""]
["","",null,null,null,null,null,null,"","","","",null,null,null,null,null,null,null,null,null,null,""]
["","",null,null,null,null,null,null,"","","","",null,null,null,null,null,null,null,null,null,null,""]
["","",null,null,null,null,null,null,"","","","",null,null,null,null,null,null,null,null,null,null,""]
["","",null,null,null,null,null,null,"","","","",null,null,null,null,null,null,null,null,null,null,""]
["","",null,null,null,null,null,null,"","","","",null,null,null,null,null,null,null,null,null,null,""]
["","",null,null,null,null,null,null,"","","","",null,null,null,null,null,null,null,null,null,null,""]
["","",null,null,null,null,null,null,"","","","",null,null,null,null,null,null,null,null,null,null,""]
["","",null,null,null,null,null,null,"","","","",null,null,null,null,null,null,null,null,null,null,""]
[{"$f":"IF(A45<>\"\",A45,\"\")","v":""},null,null,null,null,null,null,null,null,null,null,null,null,null,null,null,null,null,null,null,null,null,{"$f":"W45","v":0}]
["税抜請求金額合計",null,null,null,null,null,null,null,null,null,null,null,null,null,null,null,null,null,null,null,null,null,{"$f":"IF(W46<>\"\",W46,\"\")","v":""}]